BEGIN:VCALENDAR
VERSION:2.0
PRODID:-//Congregation for Humanistic Judaism - ECPv6.15.20//NONSGML v1.0//EN
CALSCALE:GREGORIAN
METHOD:PUBLISH
X-ORIGINAL-URL:https://www.humanisticjews.org
X-WR-CALDESC:Events for Congregation for Humanistic Judaism
REFRESH-INTERVAL;VALUE=DURATION:PT1H
X-Robots-Tag:noindex
X-PUBLISHED-TTL:PT1H
BEGIN:VTIMEZONE
TZID:America/New_York
BEGIN:DAYLIGHT
TZOFFSETFROM:-0500
TZOFFSETTO:-0400
TZNAME:EDT
DTSTART:20230312T070000
END:DAYLIGHT
BEGIN:STANDARD
TZOFFSETFROM:-0400
TZOFFSETTO:-0500
TZNAME:EST
DTSTART:20231105T060000
END:STANDARD
BEGIN:DAYLIGHT
TZOFFSETFROM:-0500
TZOFFSETTO:-0400
TZNAME:EDT
DTSTART:20240310T070000
END:DAYLIGHT
BEGIN:STANDARD
TZOFFSETFROM:-0400
TZOFFSETTO:-0500
TZNAME:EST
DTSTART:20241103T060000
END:STANDARD
BEGIN:DAYLIGHT
TZOFFSETFROM:-0500
TZOFFSETTO:-0400
TZNAME:EDT
DTSTART:20250309T070000
END:DAYLIGHT
BEGIN:STANDARD
TZOFFSETFROM:-0400
TZOFFSETTO:-0500
TZNAME:EST
DTSTART:20251102T060000
END:STANDARD
BEGIN:DAYLIGHT
TZOFFSETFROM:-0500
TZOFFSETTO:-0400
TZNAME:EDT
DTSTART:20260308T070000
END:DAYLIGHT
BEGIN:STANDARD
TZOFFSETFROM:-0400
TZOFFSETTO:-0500
TZNAME:EST
DTSTART:20261101T060000
END:STANDARD
END:VTIMEZONE
BEGIN:VEVENT
DTSTART;TZID=America/New_York:20250126T103000
DTEND;TZID=America/New_York:20250126T113000
DTSTAMP:20260424T093756
CREATED:20241230T211832Z
LAST-MODIFIED:20241230T211832Z
UID:10000169-1737887400-1737891000@www.humanisticjews.org
SUMMARY:Jewish-Ukrainian History and Ukraine's Current Crisis
DESCRIPTION:Jewish Children’s Folkshul is proud to host an important community presentation on January 26\, 2024\, from 10:30 AM to 11:30 AM\, featuring Ilya Knizhnik\, a key figure in the Jewish-Ukrainian diaspora. The event\, available both in-person at Folkshul in Philadelphia and via webinar\, invites students (grades 5 through 12)\, adults\, and the broader community to attend and learn about the complex history and current situation facing Ukraine. \n  \nIlya Knizhnik\, a long-time Folkshul member and passionate advocate for Ukraine\, will share his personal family history and its deep ties to Ukraine\, offering insight into the broader Jewish-Ukrainian experience over the past 150 years. The presentation will explore topics such as the impact of anti-Semitism\, the evolving relationship between Jews and Ukraine\, and the political and humanitarian complexities surrounding Russia’s ongoing invasion of Ukraine. \n  \nIn addition to his personal story\, Knizhnik will highlight his role in co-founding Ukraine TrustChain\, a non-governmental organization dedicated to providing critical humanitarian aid\, evacuating civilians from war zones\, and rebuilding Ukraine’s war-torn regions. Ukraine TrustChain has delivered aid to millions\, evacuated over 65\,000 people\, and rebuilt thousands of homes\, and Knizhnik will discuss how individuals and communities can support Ukraine’s ongoing needs and the organization’s important work. \n  \nThe session will also include a Q&A portion\, providing students and attendees the opportunity to engage directly with Ilya Knizhnik and learn more about Ukraine’s history\, the current crisis\, and ways they can contribute to humanitarian efforts. \n 
URL:https://www.humanisticjews.org/event/jewish-ukrainian-history-and-ukraines-current-crisis/
LOCATION:Zoom
ATTACH;FMTTYPE=image/jpeg:https://www.humanisticjews.org/wp-content/uploads/2024/12/folkshul.jpeg
END:VEVENT
BEGIN:VEVENT
DTSTART;TZID=America/New_York:20250124T193000
DTEND;TZID=America/New_York:20250124T193000
DTSTAMP:20260424T093756
CREATED:20250115T222553Z
LAST-MODIFIED:20250115T222731Z
UID:10000174-1737747000-1737747000@www.humanisticjews.org
SUMMARY:Shabbat Program - Mizrahi Jews
DESCRIPTION:Guest speaker will be Jennifer Mizrahi. She will tell us about Mizrahi Jews. She is a public speaker having spoken on various topics. \nWe expect this to be an interesting and informative session. Looking forward to seeing you all then\, \nWatch the listserv for the zoom link. \nFor the Programming Committee \nPrevin
URL:https://www.humanisticjews.org/event/shabbat-program-mizrahi-jews/
LOCATION:Zoom
ATTACH;FMTTYPE=image/jpeg:https://www.humanisticjews.org/wp-content/uploads/2025/01/mizrahi.jpeg
END:VEVENT
BEGIN:VEVENT
DTSTART;TZID=America/New_York:20241229T103000
DTEND;TZID=America/New_York:20241229T120000
DTSTAMP:20260424T093756
CREATED:20240131T162621Z
LAST-MODIFIED:20241225T231110Z
UID:10000083-1735468200-1735473600@www.humanisticjews.org
SUMMARY:Women's Rap
DESCRIPTION:Come join other CHJ women to talk about a topic to be chosen at the meeting. It’s a great way to get to know one another. Meet us on Zoom. Watch the listserv for the link.
URL:https://www.humanisticjews.org/event/women-to-women-15/
ATTACH;FMTTYPE=image/png:https://www.humanisticjews.org/wp-content/uploads/2018/05/rap.png
END:VEVENT
BEGIN:VEVENT
DTSTART;TZID=America/New_York:20241215T080000
DTEND;TZID=America/New_York:20241215T170000
DTSTAMP:20260424T093756
CREATED:20241215T203436Z
LAST-MODIFIED:20241215T203604Z
UID:10000162-1734249600-1734282000@www.humanisticjews.org
SUMMARY:Shabbat Program - Hanukkah Celebration
DESCRIPTION:This will be a members’ Shabbat. All are invited to share your own Hanukkah stories from your childhood and family memories. Such sharing of our experiences enriches our Congregation and we at the Programming Committee eagerly look forward to hearing all of them. \nService to follow. \nWatch listserv for zoom link.
URL:https://www.humanisticjews.org/event/shabbat-program-hanukkah-celebration/
LOCATION:Zoom
ATTACH;FMTTYPE=image/jpeg:https://www.humanisticjews.org/wp-content/uploads/2024/11/hanukkah.jpeg
END:VEVENT
END:VCALENDAR