BEGIN:VCALENDAR
VERSION:2.0
PRODID:-//Congregation for Humanistic Judaism - ECPv6.15.20//NONSGML v1.0//EN
CALSCALE:GREGORIAN
METHOD:PUBLISH
X-WR-CALNAME:Congregation for Humanistic Judaism
X-ORIGINAL-URL:https://www.humanisticjews.org
X-WR-CALDESC:Events for Congregation for Humanistic Judaism
REFRESH-INTERVAL;VALUE=DURATION:PT1H
X-Robots-Tag:noindex
X-PUBLISHED-TTL:PT1H
BEGIN:VTIMEZONE
TZID:America/New_York
BEGIN:DAYLIGHT
TZOFFSETFROM:-0500
TZOFFSETTO:-0400
TZNAME:EDT
DTSTART:20250309T070000
END:DAYLIGHT
BEGIN:STANDARD
TZOFFSETFROM:-0400
TZOFFSETTO:-0500
TZNAME:EST
DTSTART:20251102T060000
END:STANDARD
BEGIN:DAYLIGHT
TZOFFSETFROM:-0500
TZOFFSETTO:-0400
TZNAME:EDT
DTSTART:20260308T070000
END:DAYLIGHT
BEGIN:STANDARD
TZOFFSETFROM:-0400
TZOFFSETTO:-0500
TZNAME:EST
DTSTART:20261101T060000
END:STANDARD
BEGIN:DAYLIGHT
TZOFFSETFROM:-0500
TZOFFSETTO:-0400
TZNAME:EDT
DTSTART:20270314T070000
END:DAYLIGHT
BEGIN:STANDARD
TZOFFSETFROM:-0400
TZOFFSETTO:-0500
TZNAME:EST
DTSTART:20271107T060000
END:STANDARD
END:VTIMEZONE
BEGIN:VEVENT
DTSTART;TZID=America/New_York:20260718T180000
DTEND;TZID=America/New_York:20260718T180000
DTSTAMP:20260425T001918
CREATED:20260217T234731Z
LAST-MODIFIED:20260218T002105Z
UID:10000311-1784397600-1784397600@www.humanisticjews.org
SUMMARY:Havdalah at the Beach
DESCRIPTION:Bid Shabbat farewell at the beach with fellow members\, friends and guests on Saturday\, July 18\, 6:00 p m at the Sherwood Island Park in Westport. \nDesserts\, drinks and parking compliments of CHJ\, bring your chairs and dinner. \nPlease RSVP programming@humanisticjews.org  in order to plan for desserts and drinks. \n Ask for CHJ parking at the gate. See you there.
URL:https://www.humanisticjews.org/event/havdalah-at-the-beach-6/
LOCATION:Sherwood Island Park Westport
ATTACH;FMTTYPE=image/jpeg:https://www.humanisticjews.org/wp-content/uploads/2023/07/havdalah-at-beach-2023-scaled-e1688312436141.jpg
END:VEVENT
BEGIN:VEVENT
DTSTART;TZID=America/New_York:20260725T180000
DTEND;TZID=America/New_York:20260725T180000
DTSTAMP:20260425T001918
CREATED:20260217T235401Z
LAST-MODIFIED:20260218T001445Z
UID:10000312-1785002400-1785002400@www.humanisticjews.org
SUMMARY:Havdalah at the Beach *****RAIN DATE FOR JULY 18*****
DESCRIPTION:Bid Shabbat farewell at the beach with fellow members\, friends and guests on Saturday\, July 25\, 6:00 p m at the Sherwood Island Park in Westport. \nDesserts\, drinks and parking compliments of CHJ\, bring your chairs and dinner. \nPlease RSVP programming@humanisticjews.org  in order to plan for desserts and drinks. \n Ask for CHJ parking at the gate. See you there.
URL:https://www.humanisticjews.org/event/havdalah-at-the-beach-rain-date-for-july-18/
LOCATION:Sherwood Island Park Westport
ATTACH;FMTTYPE=image/jpeg:https://www.humanisticjews.org/wp-content/uploads/2023/07/havdalah-at-beach-2023-scaled-e1688312436141.jpg
END:VEVENT
BEGIN:VEVENT
DTSTART;TZID=America/New_York:20260815T180000
DTEND;TZID=America/New_York:20260815T180000
DTSTAMP:20260425T001918
CREATED:20260217T235724Z
LAST-MODIFIED:20260217T235807Z
UID:10000313-1786816800-1786816800@www.humanisticjews.org
SUMMARY:Havdalah at the Beach
DESCRIPTION:Bid Shabbat farewell at the beach with fellow members\, friends and guests on Saturday\, August 15\, 6:00 p m at the Sherwood Island Park in Westport. \nDesserts\, drinks and parking compliments of CHJ\, bring your chairs and dinner. \nPlease RSVP programming@humanisticjews.org  in order to plan for desserts and drinks. \n Ask for CHJ parking at the gate. See you there.
URL:https://www.humanisticjews.org/event/havdalah-at-the-beach-7/
LOCATION:Sherwood Island Park Westport
ATTACH;FMTTYPE=image/jpeg:https://www.humanisticjews.org/wp-content/uploads/2023/07/havdalah-at-beach-2023-scaled-e1688312436141.jpg
END:VEVENT
BEGIN:VEVENT
DTSTART;TZID=America/New_York:20260822T180000
DTEND;TZID=America/New_York:20260822T180000
DTSTAMP:20260425T001918
CREATED:20260218T000038Z
LAST-MODIFIED:20260218T000119Z
UID:10000314-1787421600-1787421600@www.humanisticjews.org
SUMMARY:Havdalah at the Beach-**RAIN DATE FOR AUG.15***
DESCRIPTION:Bid Shabbat farewell at the beach with fellow members\, friends and guests on Saturday\, August 22\, 6:00 p m at the Sherwood Island Park in Westport. \nDesserts\, drinks and parking compliments of CHJ\, bring your chairs and dinner. \nPlease RSVP programming@humanisticjews.org  in order to plan for desserts and drinks. \n Ask for CHJ parking at the gate. See you there.
URL:https://www.humanisticjews.org/event/havdalah-at-the-beach-rain-date-for-aug-15/
LOCATION:Sherwood Island Park Westport
ATTACH;FMTTYPE=image/jpeg:https://www.humanisticjews.org/wp-content/uploads/2023/07/havdalah-at-beach-2023-scaled-e1688312436141.jpg
END:VEVENT
END:VCALENDAR