BEGIN:VCALENDAR
VERSION:2.0
PRODID:-//Congregation for Humanistic Judaism - ECPv6.15.20//NONSGML v1.0//EN
CALSCALE:GREGORIAN
METHOD:PUBLISH
X-ORIGINAL-URL:https://www.humanisticjews.org
X-WR-CALDESC:Events for Congregation for Humanistic Judaism
REFRESH-INTERVAL;VALUE=DURATION:PT1H
X-Robots-Tag:noindex
X-PUBLISHED-TTL:PT1H
BEGIN:VTIMEZONE
TZID:America/New_York
BEGIN:DAYLIGHT
TZOFFSETFROM:-0500
TZOFFSETTO:-0400
TZNAME:EDT
DTSTART:20250309T070000
END:DAYLIGHT
BEGIN:STANDARD
TZOFFSETFROM:-0400
TZOFFSETTO:-0500
TZNAME:EST
DTSTART:20251102T060000
END:STANDARD
BEGIN:DAYLIGHT
TZOFFSETFROM:-0500
TZOFFSETTO:-0400
TZNAME:EDT
DTSTART:20260308T070000
END:DAYLIGHT
BEGIN:STANDARD
TZOFFSETFROM:-0400
TZOFFSETTO:-0500
TZNAME:EST
DTSTART:20261101T060000
END:STANDARD
BEGIN:DAYLIGHT
TZOFFSETFROM:-0500
TZOFFSETTO:-0400
TZNAME:EDT
DTSTART:20270314T070000
END:DAYLIGHT
BEGIN:STANDARD
TZOFFSETFROM:-0400
TZOFFSETTO:-0500
TZNAME:EST
DTSTART:20271107T060000
END:STANDARD
END:VTIMEZONE
BEGIN:VEVENT
DTSTART;TZID=America/New_York:20260426T103000
DTEND;TZID=America/New_York:20260426T123000
DTSTAMP:20260425T074555
CREATED:20260402T225707Z
LAST-MODIFIED:20260402T225707Z
UID:10000333-1777199400-1777206600@www.humanisticjews.org
SUMMARY:Women's Rap
DESCRIPTION:  \nCome join other CHJ women to talk about a topic to be chosen at the meeting. It’s a great way to get to know one another. \nVenue to be advised. Please watch the listserv . \nRSVP: rcfnpl2@gmail.com \n  \n 
URL:https://www.humanisticjews.org/event/womens-rap-11/
LOCATION:TBA
ATTACH;FMTTYPE=image/png:https://www.humanisticjews.org/wp-content/uploads/2018/05/rap.png
END:VEVENT
BEGIN:VEVENT
DTSTART;TZID=America/New_York:20260426T150000
DTEND;TZID=America/New_York:20260426T150000
DTSTAMP:20260425T074555
CREATED:20260217T231330Z
LAST-MODIFIED:20260220T163512Z
UID:10000309-1777215600-1777215600@www.humanisticjews.org
SUMMARY:Discussion with Guest Speaker Rabbi Adam Chalom of SHJ
DESCRIPTION:  \nSecular and Jewish?\nRabbi Adam Chalom (847-383-5184\, rabbi@KolHadash.com) is a dynamic and illuminating speaker\, a clear and inspiring teacher\, a warm and welcoming presence at Kol Hadash\, and a leading voice in the movement of Humanistic Judaism. \nWatch the listserv for the Zoom link.
URL:https://www.humanisticjews.org/event/guest-speaker-rabbi-adam-chalom-of-shj/
LOCATION:Zoom
ATTACH;FMTTYPE=image/jpeg:https://www.humanisticjews.org/wp-content/uploads/2026/02/rabbi.jpeg
END:VEVENT
END:VCALENDAR