BEGIN:VCALENDAR
VERSION:2.0
PRODID:-//Congregation for Humanistic Judaism - ECPv6.15.20//NONSGML v1.0//EN
CALSCALE:GREGORIAN
METHOD:PUBLISH
X-ORIGINAL-URL:https://www.humanisticjews.org
X-WR-CALDESC:Events for Congregation for Humanistic Judaism
REFRESH-INTERVAL;VALUE=DURATION:PT1H
X-Robots-Tag:noindex
X-PUBLISHED-TTL:PT1H
BEGIN:VTIMEZONE
TZID:America/New_York
BEGIN:DAYLIGHT
TZOFFSETFROM:-0500
TZOFFSETTO:-0400
TZNAME:EDT
DTSTART:20250309T070000
END:DAYLIGHT
BEGIN:STANDARD
TZOFFSETFROM:-0400
TZOFFSETTO:-0500
TZNAME:EST
DTSTART:20251102T060000
END:STANDARD
BEGIN:DAYLIGHT
TZOFFSETFROM:-0500
TZOFFSETTO:-0400
TZNAME:EDT
DTSTART:20260308T070000
END:DAYLIGHT
BEGIN:STANDARD
TZOFFSETFROM:-0400
TZOFFSETTO:-0500
TZNAME:EST
DTSTART:20261101T060000
END:STANDARD
BEGIN:DAYLIGHT
TZOFFSETFROM:-0500
TZOFFSETTO:-0400
TZNAME:EDT
DTSTART:20270314T070000
END:DAYLIGHT
BEGIN:STANDARD
TZOFFSETFROM:-0400
TZOFFSETTO:-0500
TZNAME:EST
DTSTART:20271107T060000
END:STANDARD
END:VTIMEZONE
BEGIN:VEVENT
DTSTART;TZID=America/New_York:20260502T103000
DTEND;TZID=America/New_York:20260502T103000
DTSTAMP:20260425T103515
CREATED:20260217T230259Z
LAST-MODIFIED:20260301T231658Z
UID:10000307-1777717800-1777717800@www.humanisticjews.org
SUMMARY:Special Program - Hosted by Elsa Cantor and Don Lamberty
DESCRIPTION:Who was Herod the Great?\nWas he Herod the Great\, Herod the Crazy\, or Herod the Tyrant?\nWe will delve into his life\, including some of his major accomplishments along with his flawed character.
URL:https://www.humanisticjews.org/event/special-service-hosted-by-elsa-cantor-and-don/
LOCATION:TBA
ATTACH;FMTTYPE=image/jpeg:https://www.humanisticjews.org/wp-content/uploads/2026/02/herod.jpeg
END:VEVENT
BEGIN:VEVENT
DTSTART;TZID=America/New_York:20260509T103000
DTEND;TZID=America/New_York:20260509T103000
DTSTAMP:20260425T103515
CREATED:20260213T184105Z
LAST-MODIFIED:20260213T195530Z
UID:10000302-1778322600-1778322600@www.humanisticjews.org
SUMMARY:Book Club - The God of Small Things by Arundhati Roy
DESCRIPTION:The God of Small Things is Arundhati Roy’s 1997 Booker Prize-winning debut novel\, a lyrical and complex family saga set in Kerala\, India\, that explores forbidden love\, casteism\, and the impact of colonialism through the story of fraternal twins Estha and Rahel. The non-linear narrative\, praised for its unique prose\, follows the twins as they reunite after 23 years and confront a tragic event from their childhood—the drowning of their cousin Sophie—which was shaped by the “Love Laws” that dictate who can love whom. The novel is known for its poetic language and its examination of how small events have profound\, lasting consequences. 
URL:https://www.humanisticjews.org/event/the-god-of-small-things-by-arundhati-roy/
LOCATION:TBA
ATTACH;FMTTYPE=image/jpeg:https://www.humanisticjews.org/wp-content/uploads/2026/02/small.jpeg
END:VEVENT
END:VCALENDAR