BEGIN:VCALENDAR
VERSION:2.0
PRODID:-//Congregation for Humanistic Judaism - ECPv6.15.20//NONSGML v1.0//EN
CALSCALE:GREGORIAN
METHOD:PUBLISH
X-ORIGINAL-URL:https://www.humanisticjews.org
X-WR-CALDESC:Events for Congregation for Humanistic Judaism
REFRESH-INTERVAL;VALUE=DURATION:PT1H
X-Robots-Tag:noindex
X-PUBLISHED-TTL:PT1H
BEGIN:VTIMEZONE
TZID:America/New_York
BEGIN:DAYLIGHT
TZOFFSETFROM:-0500
TZOFFSETTO:-0400
TZNAME:EDT
DTSTART:20250309T070000
END:DAYLIGHT
BEGIN:STANDARD
TZOFFSETFROM:-0400
TZOFFSETTO:-0500
TZNAME:EST
DTSTART:20251102T060000
END:STANDARD
BEGIN:DAYLIGHT
TZOFFSETFROM:-0500
TZOFFSETTO:-0400
TZNAME:EDT
DTSTART:20260308T070000
END:DAYLIGHT
BEGIN:STANDARD
TZOFFSETFROM:-0400
TZOFFSETTO:-0500
TZNAME:EST
DTSTART:20261101T060000
END:STANDARD
BEGIN:DAYLIGHT
TZOFFSETFROM:-0500
TZOFFSETTO:-0400
TZNAME:EDT
DTSTART:20270314T070000
END:DAYLIGHT
BEGIN:STANDARD
TZOFFSETFROM:-0400
TZOFFSETTO:-0500
TZNAME:EST
DTSTART:20271107T060000
END:STANDARD
END:VTIMEZONE
BEGIN:VEVENT
DTSTART;TZID=America/New_York:20260305T193000
DTEND;TZID=America/New_York:20260305T193000
DTSTAMP:20260425T091748
CREATED:20260224T230011Z
LAST-MODIFIED:20260224T231221Z
UID:10000319-1772739000-1772739000@www.humanisticjews.org
SUMMARY:AntiSemitism: an American Tradition presented by Pamela S. Nadell
DESCRIPTION:For more info click:\n\nSponsored by Jewish Federation\, Jewish Book Council and Fairfield University\n 
URL:https://www.humanisticjews.org/event/antisemitism-an-american-tradition-presented-by-pamela-s-nadell/
LOCATION:Quick Center Fairfield University
END:VEVENT
BEGIN:VEVENT
DTSTART;TZID=America/New_York:20260306T183000
DTEND;TZID=America/New_York:20260306T192000
DTSTAMP:20260425T091748
CREATED:20260225T202814Z
LAST-MODIFIED:20260225T202842Z
UID:10000320-1772821800-1772824800@www.humanisticjews.org
SUMMARY:Shabbat Candle Lighting
DESCRIPTION:Zoom opens at 6:30pm just to kibbutz. \nAt 7pm we light candles with a  short service. We listen to music and short lectures. Watch for the Zoom link on the listserv Friday afternoon.
URL:https://www.humanisticjews.org/event/shabbat-candle-lighting-67/
LOCATION:Zoom
ATTACH;FMTTYPE=image/jpeg:https://www.humanisticjews.org/wp-content/uploads/2024/08/shabbat2-1.jpeg
END:VEVENT
BEGIN:VEVENT
DTSTART;TZID=America/New_York:20260308T103000
DTEND;TZID=America/New_York:20260308T103000
DTSTAMP:20260425T091748
CREATED:20260225T204247Z
LAST-MODIFIED:20260225T204318Z
UID:10000323-1772965800-1772965800@www.humanisticjews.org
SUMMARY:Special Program by Rabbi Alison Brody
DESCRIPTION:This is a facilitated conversation on “The Wisdom of Words in Jewish Tradition”. \nWe will examine some short passages from Jewish Tradition as well as a quote from a US Supreme Court ruling.\nOpen to all CHJ Members
URL:https://www.humanisticjews.org/event/special-program-by-rabbi-alison-brody/
LOCATION:Zoom
END:VEVENT
BEGIN:VEVENT
DTSTART;TZID=America/New_York:20260310T190000
DTEND;TZID=America/New_York:20260310T190000
DTSTAMP:20260425T091748
CREATED:20260225T204515Z
LAST-MODIFIED:20260225T204515Z
UID:10000324-1773169200-1773169200@www.humanisticjews.org
SUMMARY:Board Meeting
DESCRIPTION:We will begin work on the year’s programs and any activities of specific interest. \nPlease send me subjects of interest you wish the Board to consider in order to prepare the agenda.  \nOpen to all CHJ members. Request the Zoom link from Previn Patel.\n\n  \n 
URL:https://www.humanisticjews.org/event/board-meeting-21/
LOCATION:Zoom
ATTACH;FMTTYPE=image/jpeg:https://www.humanisticjews.org/wp-content/uploads/2022/04/board-5.jpg
END:VEVENT
BEGIN:VEVENT
DTSTART;TZID=America/New_York:20260313T183000
DTEND;TZID=America/New_York:20260313T192000
DTSTAMP:20260425T091748
CREATED:20260225T203046Z
LAST-MODIFIED:20260225T203126Z
UID:10000321-1773426600-1773429600@www.humanisticjews.org
SUMMARY:Shabbat Candle Lighting
DESCRIPTION:Zoom opens at 6:30pm just to kibbutz. \nAt 7pm we light candles with a  short service. We listen to music and short lectures. Watch for the Zoom link on the listserv Friday afternoon.
URL:https://www.humanisticjews.org/event/shabbat-candle-lighting-68/
LOCATION:Zoom
ATTACH;FMTTYPE=image/jpeg:https://www.humanisticjews.org/wp-content/uploads/2024/08/shabbat2-1.jpeg
END:VEVENT
BEGIN:VEVENT
DTSTART;TZID=America/New_York:20260315T093000
DTEND;TZID=America/New_York:20260315T093000
DTSTAMP:20260425T091748
CREATED:20260225T210025Z
LAST-MODIFIED:20260225T210102Z
UID:10000325-1773567000-1773567000@www.humanisticjews.org
SUMMARY:Men's Rap
DESCRIPTION:9:30 kibbutzing \n10 Meeting \nRSVP lbwtz35@gmail.com \nWatch the listserv for the venue.
URL:https://www.humanisticjews.org/event/mens-rap-12/
LOCATION:Member’s residence
ATTACH;FMTTYPE=image/jpeg:https://www.humanisticjews.org/wp-content/uploads/2024/08/men-1.jpg
END:VEVENT
BEGIN:VEVENT
DTSTART;TZID=America/New_York:20260315T103000
DTEND;TZID=America/New_York:20260315T103000
DTSTAMP:20260425T091748
CREATED:20260213T181802Z
LAST-MODIFIED:20260225T205151Z
UID:10000300-1773570600-1773570600@www.humanisticjews.org
SUMMARY:Book Club - Daughters of the Bamboo Grove - by Barbara Demick
DESCRIPTION:  \nDaughters of the Bamboo Grove by Barbara Demick is a non-fiction book about twin sisters separated by China’s one-child policy\, one of whom was abducted and adopted by an American family\, while the other remained in China. The book investigates the impact of the one-child policy\, the ethics of international adoption\, and the story of the twins’ separate lives and eventual reunion\, highlighting the human cost of these policies and the role of human trafficking. 
URL:https://www.humanisticjews.org/event/daughters-of-the-bamboo-grove-by-barbara-demick/
LOCATION:Member’s residence
END:VEVENT
BEGIN:VEVENT
DTSTART;TZID=America/New_York:20260320T183000
DTEND;TZID=America/New_York:20260320T192000
DTSTAMP:20260425T091748
CREATED:20260225T203322Z
LAST-MODIFIED:20260225T203352Z
UID:10000322-1774031400-1774034400@www.humanisticjews.org
SUMMARY:Shabbat Candle Lighting
DESCRIPTION:Zoom opens at 6:30pm just to kibbutz. \nAt 7pm we light candles with a  short service. We listen to music and short lectures. Watch for the Zoom link on the listserv Friday afternoon.
URL:https://www.humanisticjews.org/event/shabbat-candle-lighting-69/
LOCATION:Zoom
ATTACH;FMTTYPE=image/jpeg:https://www.humanisticjews.org/wp-content/uploads/2024/08/shabbat2-1.jpeg
END:VEVENT
BEGIN:VEVENT
DTSTART;TZID=America/New_York:20260327T193000
DTEND;TZID=America/New_York:20260327T193000
DTSTAMP:20260425T091748
CREATED:20260217T230846Z
LAST-MODIFIED:20260220T162416Z
UID:10000308-1774639800-1774639800@www.humanisticjews.org
SUMMARY:Shabbat Service - Guest Speaker Susan Boyar
DESCRIPTION:After a short service\, our own Susan Boyar will speak on short story Deal-Breaker\, by Allegra Goodman.
URL:https://www.humanisticjews.org/event/shabbat-service-guest-speaker-susan-boyar/
ATTACH;FMTTYPE=image/jpeg:https://www.humanisticjews.org/wp-content/uploads/2024/08/shabbat2-1.jpeg
END:VEVENT
BEGIN:VEVENT
DTSTART;TZID=America/New_York:20260329T103000
DTEND;TZID=America/New_York:20260329T123000
DTSTAMP:20260425T091748
CREATED:20260225T210329Z
LAST-MODIFIED:20260225T210419Z
UID:10000326-1774780200-1774787400@www.humanisticjews.org
SUMMARY:Women's Rap
DESCRIPTION:  \nCome join other CHJ women to talk about a topic to be chosen at the meeting. It’s a great way to get to know one another. \nVenue to be advised. Please watch the listserv . \nRSVP: rcfnpl2@gmail.com \n  \n 
URL:https://www.humanisticjews.org/event/womens-rap-10/
LOCATION:TBA
ATTACH;FMTTYPE=image/png:https://www.humanisticjews.org/wp-content/uploads/2018/05/rap.png
END:VEVENT
END:VCALENDAR