BEGIN:VCALENDAR
VERSION:2.0
PRODID:-//Congregation for Humanistic Judaism - ECPv6.15.20//NONSGML v1.0//EN
CALSCALE:GREGORIAN
METHOD:PUBLISH
X-WR-CALNAME:Congregation for Humanistic Judaism
X-ORIGINAL-URL:https://www.humanisticjews.org
X-WR-CALDESC:Events for Congregation for Humanistic Judaism
REFRESH-INTERVAL;VALUE=DURATION:PT1H
X-Robots-Tag:noindex
X-PUBLISHED-TTL:PT1H
BEGIN:VTIMEZONE
TZID:America/New_York
BEGIN:DAYLIGHT
TZOFFSETFROM:-0500
TZOFFSETTO:-0400
TZNAME:EDT
DTSTART:20250309T070000
END:DAYLIGHT
BEGIN:STANDARD
TZOFFSETFROM:-0400
TZOFFSETTO:-0500
TZNAME:EST
DTSTART:20251102T060000
END:STANDARD
BEGIN:DAYLIGHT
TZOFFSETFROM:-0500
TZOFFSETTO:-0400
TZNAME:EDT
DTSTART:20260308T070000
END:DAYLIGHT
BEGIN:STANDARD
TZOFFSETFROM:-0400
TZOFFSETTO:-0500
TZNAME:EST
DTSTART:20261101T060000
END:STANDARD
BEGIN:DAYLIGHT
TZOFFSETFROM:-0500
TZOFFSETTO:-0400
TZNAME:EDT
DTSTART:20270314T070000
END:DAYLIGHT
BEGIN:STANDARD
TZOFFSETFROM:-0400
TZOFFSETTO:-0500
TZNAME:EST
DTSTART:20271107T060000
END:STANDARD
END:VTIMEZONE
BEGIN:VEVENT
DTSTART;TZID=America/New_York:20260201T093000
DTEND;TZID=America/New_York:20260201T093000
DTSTAMP:20260425T111105
CREATED:20260129T014651Z
LAST-MODIFIED:20260129T014651Z
UID:10000297-1769938200-1769938200@www.humanisticjews.org
SUMMARY:Men's Rap
DESCRIPTION:9:30 kibbutzing \n10 Meeting \nRSVP lbwtz35@gmail.com \nWatch the listserv for the venue.
URL:https://www.humanisticjews.org/event/mens-rap-11/
LOCATION:Member’s residence
ATTACH;FMTTYPE=image/jpeg:https://www.humanisticjews.org/wp-content/uploads/2024/08/men-1.jpg
END:VEVENT
BEGIN:VEVENT
DTSTART;TZID=America/New_York:20260206T183000
DTEND;TZID=America/New_York:20260206T192000
DTSTAMP:20260425T111105
CREATED:20260129T013327Z
LAST-MODIFIED:20260129T013430Z
UID:10000293-1770402600-1770405600@www.humanisticjews.org
SUMMARY:Shabbat Candle Lighting
DESCRIPTION:Zoom opens at 6:30pm just to kibbutz. \nAt 7pm we light candles with a  short service. We listen to music and short lectures. Watch for the Zoom link on the listserv Friday afternoon.
URL:https://www.humanisticjews.org/event/shabbat-candle-lighting-63/
LOCATION:Zoom
ATTACH;FMTTYPE=image/jpeg:https://www.humanisticjews.org/wp-content/uploads/2024/08/shabbat2-1.jpeg
END:VEVENT
BEGIN:VEVENT
DTSTART;TZID=America/New_York:20260209T190000
DTEND;TZID=America/New_York:20260209T190000
DTSTAMP:20260425T111105
CREATED:20260126T181343Z
LAST-MODIFIED:20260208T202859Z
UID:10000292-1770663600-1770663600@www.humanisticjews.org
SUMMARY:Board Meeting
DESCRIPTION:We will begin work on the year’s programs and any activities of specific interest. \nPlease send me subjects of interest you wish the Board to consider in order to prepare the agenda.  \nOpen to all CHJ members. Request the Zoom link from Previn Patel.\n\n  \n 
URL:https://www.humanisticjews.org/event/board-meeting-20/
LOCATION:Zoom
ATTACH;FMTTYPE=image/jpeg:https://www.humanisticjews.org/wp-content/uploads/2022/04/board-5.jpg
END:VEVENT
BEGIN:VEVENT
DTSTART;TZID=America/New_York:20260210T190000
DTEND;TZID=America/New_York:20260210T190000
DTSTAMP:20260425T111105
CREATED:20260129T020249Z
LAST-MODIFIED:20260129T021157Z
UID:10000299-1770750000-1770750000@www.humanisticjews.org
SUMMARY:Jewish Federation Author Series -Saving Abigail by Liz Hirsh Naftali
DESCRIPTION:Jewish Federation Author Series\nSaving Abigail by Liz Hirsh Naftali\n\nTo register: https://shalomct.salsalabs.org/SavingAbigail/index.html
URL:https://www.humanisticjews.org/event/jewish-federation-author-series-saving-abigail-by-liz-hirsh-naftali/
LOCATION:The Community Synagogue\, N..Y.\, 160 Middle Neck Rd.\, Sands Point\, N.Y.
END:VEVENT
BEGIN:VEVENT
DTSTART;TZID=America/New_York:20260213T183000
DTEND;TZID=America/New_York:20260213T192000
DTSTAMP:20260425T111105
CREATED:20260129T013805Z
LAST-MODIFIED:20260129T013805Z
UID:10000294-1771007400-1771010400@www.humanisticjews.org
SUMMARY:Shabbat Candle Lighting
DESCRIPTION:Zoom opens at 6:30pm just to kibbutz. \nAt 7pm we light candles with a  short service. We listen to music and short lectures. Watch for the Zoom link on the listserv Friday afternoon.
URL:https://www.humanisticjews.org/event/shabbat-candle-lighting-64/
LOCATION:Zoom
ATTACH;FMTTYPE=image/jpeg:https://www.humanisticjews.org/wp-content/uploads/2024/08/shabbat2-1.jpeg
END:VEVENT
BEGIN:VEVENT
DTSTART;TZID=America/New_York:20260214T103000
DTEND;TZID=America/New_York:20260214T120000
DTSTAMP:20260425T111105
CREATED:20260129T015319Z
LAST-MODIFIED:20260129T015319Z
UID:10000298-1771065000-1771070400@www.humanisticjews.org
SUMMARY:Book Group - An Empire of their Own: How the Jews Invented Hollywood by Neal Gabler
DESCRIPTION:Winner of the Los Angeles Times Book Award for history\, this “wonderful history of the golden age of the movie moguls” (Chicago Tribune ) is a provocative\, original\, and richly entertaining group biography of the Jewish immigrants who were the moving forces behind the creation of America’s motion picture industry. \nLet bookgroup@humanisticjews.org know if you are planning to attend\, or if you want to be put onto the CHJ Book Club mailing list. 
URL:https://www.humanisticjews.org/event/book-group-an-empire-of-their-own-how-the-jews-invented-hollywood-by-neal-gabler/
LOCATION:Member’s residence
END:VEVENT
BEGIN:VEVENT
DTSTART;TZID=America/New_York:20260220T183000
DTEND;TZID=America/New_York:20260220T192000
DTSTAMP:20260425T111105
CREATED:20260129T014058Z
LAST-MODIFIED:20260129T014058Z
UID:10000295-1771612200-1771615200@www.humanisticjews.org
SUMMARY:Shabbat Candle Lighting
DESCRIPTION:Zoom opens at 6:30pm just to kibbutz. \nAt 7pm we light candles with a  short service. We listen to music and short lectures. Watch for the Zoom link on the listserv Friday afternoon.
URL:https://www.humanisticjews.org/event/shabbat-candle-lighting-65/
LOCATION:Zoom
ATTACH;FMTTYPE=image/jpeg:https://www.humanisticjews.org/wp-content/uploads/2024/08/shabbat2-1.jpeg
END:VEVENT
BEGIN:VEVENT
DTSTART;TZID=America/New_York:20260222T103000
DTEND;TZID=America/New_York:20260222T123000
DTSTAMP:20260425T111105
CREATED:20260111T200438Z
LAST-MODIFIED:20260111T200438Z
UID:10000291-1771756200-1771763400@www.humanisticjews.org
SUMMARY:Women's Rap
DESCRIPTION:  \nCome join other CHJ women to talk about a topic to be chosen at the meeting. It’s a great way to get to know one another. \nVenue to be advised. Please watch the listserv . \nRSVP: rcfnpl2@gmail.com \n  \n 
URL:https://www.humanisticjews.org/event/womens-rap-9/
LOCATION:Member’s residence
ATTACH;FMTTYPE=image/png:https://www.humanisticjews.org/wp-content/uploads/2018/05/rap.png
END:VEVENT
BEGIN:VEVENT
DTSTART;TZID=America/New_York:20260227T183000
DTEND;TZID=America/New_York:20260227T192000
DTSTAMP:20260425T111105
CREATED:20260129T014333Z
LAST-MODIFIED:20260129T014333Z
UID:10000296-1772217000-1772220000@www.humanisticjews.org
SUMMARY:Shabbat Candle Lighting
DESCRIPTION:Zoom opens at 6:30pm just to kibbutz. \nAt 7pm we light candles with a  short service. We listen to music and short lectures. Watch for the Zoom link on the listserv Friday afternoon.
URL:https://www.humanisticjews.org/event/shabbat-candle-lighting-66/
LOCATION:Zoom
ATTACH;FMTTYPE=image/jpeg:https://www.humanisticjews.org/wp-content/uploads/2024/08/shabbat2-1.jpeg
END:VEVENT
END:VCALENDAR