BEGIN:VCALENDAR
VERSION:2.0
PRODID:-//Congregation for Humanistic Judaism - ECPv6.15.20//NONSGML v1.0//EN
CALSCALE:GREGORIAN
METHOD:PUBLISH
X-WR-CALNAME:Congregation for Humanistic Judaism
X-ORIGINAL-URL:https://www.humanisticjews.org
X-WR-CALDESC:Events for Congregation for Humanistic Judaism
REFRESH-INTERVAL;VALUE=DURATION:PT1H
X-Robots-Tag:noindex
X-PUBLISHED-TTL:PT1H
BEGIN:VTIMEZONE
TZID:America/New_York
BEGIN:DAYLIGHT
TZOFFSETFROM:-0500
TZOFFSETTO:-0400
TZNAME:EDT
DTSTART:20240310T070000
END:DAYLIGHT
BEGIN:STANDARD
TZOFFSETFROM:-0400
TZOFFSETTO:-0500
TZNAME:EST
DTSTART:20241103T060000
END:STANDARD
BEGIN:DAYLIGHT
TZOFFSETFROM:-0500
TZOFFSETTO:-0400
TZNAME:EDT
DTSTART:20250309T070000
END:DAYLIGHT
BEGIN:STANDARD
TZOFFSETFROM:-0400
TZOFFSETTO:-0500
TZNAME:EST
DTSTART:20251102T060000
END:STANDARD
BEGIN:DAYLIGHT
TZOFFSETFROM:-0500
TZOFFSETTO:-0400
TZNAME:EDT
DTSTART:20260308T070000
END:DAYLIGHT
BEGIN:STANDARD
TZOFFSETFROM:-0400
TZOFFSETTO:-0500
TZNAME:EST
DTSTART:20261101T060000
END:STANDARD
END:VTIMEZONE
BEGIN:VEVENT
DTSTART;TZID=America/New_York:20251205T183000
DTEND;TZID=America/New_York:20251205T192000
DTSTAMP:20260421T222336
CREATED:20251201T173358Z
LAST-MODIFIED:20251201T173434Z
UID:10000276-1764959400-1764962400@www.humanisticjews.org
SUMMARY:Shabbat Candle Lighting
DESCRIPTION:Zoom opens at 6:30pm just to kibbutz. \nAt 7pm we light candles with a  short service. We listen to music and short lectures. Watch for the Zoom link on the listserv Friday afternoon.
URL:https://www.humanisticjews.org/event/shabbat-candle-lighting-55/
LOCATION:Zoom
ATTACH;FMTTYPE=image/jpeg:https://www.humanisticjews.org/wp-content/uploads/2024/08/shabbat2-1.jpeg
END:VEVENT
BEGIN:VEVENT
DTSTART;TZID=America/New_York:20251207T103000
DTEND;TZID=America/New_York:20251207T123000
DTSTAMP:20260421T222336
CREATED:20250929T010609Z
LAST-MODIFIED:20251125T160426Z
UID:10000260-1765103400-1765110600@www.humanisticjews.org
SUMMARY:Women's Rap
DESCRIPTION:  \nCome join other CHJ women to talk about a topic to be chosen at the meeting. It’s a great way to get to know one another. \nThis month the meeting will be held on Zoom Please watch the listserv for the link. \nRSVP: rcfnpl2@gmail.com \n  \n 
URL:https://www.humanisticjews.org/event/womens-rap-7/
LOCATION:TBA
ATTACH;FMTTYPE=image/png:https://www.humanisticjews.org/wp-content/uploads/2018/05/rap.png
END:VEVENT
BEGIN:VEVENT
DTSTART;TZID=America/New_York:20251209T190000
DTEND;TZID=America/New_York:20251209T190000
DTSTAMP:20260421T222336
CREATED:20251201T174305Z
LAST-MODIFIED:20251201T174335Z
UID:10000279-1765306800-1765306800@www.humanisticjews.org
SUMMARY:Board Meeting
DESCRIPTION:We will begin work on the year’s programs and any activities of specific interest. \nPlease send me subjects of interest you wish the Board to consider in order to prepare the agenda.  \nOpen to all CHJ members. Request the Zoom link from Previn Patel.\n\n  \n 
URL:https://www.humanisticjews.org/event/board-meeting-18/
LOCATION:Zoom
ATTACH;FMTTYPE=image/jpeg:https://www.humanisticjews.org/wp-content/uploads/2022/04/board-5.jpg
END:VEVENT
BEGIN:VEVENT
DTSTART;TZID=America/New_York:20251213T140000
DTEND;TZID=America/New_York:20251213T140000
DTSTAMP:20260421T222336
CREATED:20251014T023412Z
LAST-MODIFIED:20251201T174934Z
UID:10000266-1765634400-1765634400@www.humanisticjews.org
SUMMARY:Hanukkah Party - Save the Date   ***NEW TIME***
DESCRIPTION:  \nCHJ’s Pot Luck Dinner Party with Homemade Latkes and return of the popular Donut Decoration Board (with ice cream and toppings)\n\n100 latkes baked by CHJ chefs\nMusic by Adam & Howard of The Shul Band – get ready for some dancing\nLight the menorah with CHJ friends\nBring your guests\nPlease stock up on non-perishables to support our food drive for Operation Hope. Remember to bring food for neighbors in need…\n…along with your pot luck dish for the party\n\nWatch the listserv for venue.
URL:https://www.humanisticjews.org/event/hanukkah-party-save-the-date-2/
END:VEVENT
BEGIN:VEVENT
DTSTART;TZID=America/New_York:20251219T183000
DTEND;TZID=America/New_York:20251219T192000
DTSTAMP:20260421T222336
CREATED:20251201T173629Z
LAST-MODIFIED:20251201T173659Z
UID:10000277-1766169000-1766172000@www.humanisticjews.org
SUMMARY:Shabbat Candle Lighting
DESCRIPTION:Zoom opens at 6:30pm just to kibbutz. \nAt 7pm we light candles with a  short service. We listen to music and short lectures. Watch for the Zoom link on the listserv Friday afternoon.
URL:https://www.humanisticjews.org/event/shabbat-candle-lighting-56/
LOCATION:Zoom
ATTACH;FMTTYPE=image/jpeg:https://www.humanisticjews.org/wp-content/uploads/2024/08/shabbat2-1.jpeg
END:VEVENT
BEGIN:VEVENT
DTSTART;TZID=America/New_York:20251226T183000
DTEND;TZID=America/New_York:20251226T192000
DTSTAMP:20260421T222336
CREATED:20251201T173836Z
LAST-MODIFIED:20251201T174014Z
UID:10000278-1766773800-1766776800@www.humanisticjews.org
SUMMARY:Shabbat Candle Lighting
DESCRIPTION:Zoom opens at 6:30pm just to kibbutz. \nAt 7pm we light candles with a  short service. We listen to music and short lectures. Watch for the Zoom link on the listserv Friday afternoon.
URL:https://www.humanisticjews.org/event/shabbat-candle-lighting-57/
LOCATION:Zoom
ATTACH;FMTTYPE=image/jpeg:https://www.humanisticjews.org/wp-content/uploads/2024/08/shabbat2-1.jpeg
END:VEVENT
END:VCALENDAR