BEGIN:VCALENDAR
VERSION:2.0
PRODID:-//Congregation for Humanistic Judaism - ECPv6.15.20//NONSGML v1.0//EN
CALSCALE:GREGORIAN
METHOD:PUBLISH
X-ORIGINAL-URL:https://www.humanisticjews.org
X-WR-CALDESC:Events for Congregation for Humanistic Judaism
REFRESH-INTERVAL;VALUE=DURATION:PT1H
X-Robots-Tag:noindex
X-PUBLISHED-TTL:PT1H
BEGIN:VTIMEZONE
TZID:America/New_York
BEGIN:DAYLIGHT
TZOFFSETFROM:-0500
TZOFFSETTO:-0400
TZNAME:EDT
DTSTART:20240310T070000
END:DAYLIGHT
BEGIN:STANDARD
TZOFFSETFROM:-0400
TZOFFSETTO:-0500
TZNAME:EST
DTSTART:20241103T060000
END:STANDARD
BEGIN:DAYLIGHT
TZOFFSETFROM:-0500
TZOFFSETTO:-0400
TZNAME:EDT
DTSTART:20250309T070000
END:DAYLIGHT
BEGIN:STANDARD
TZOFFSETFROM:-0400
TZOFFSETTO:-0500
TZNAME:EST
DTSTART:20251102T060000
END:STANDARD
BEGIN:DAYLIGHT
TZOFFSETFROM:-0500
TZOFFSETTO:-0400
TZNAME:EDT
DTSTART:20260308T070000
END:DAYLIGHT
BEGIN:STANDARD
TZOFFSETFROM:-0400
TZOFFSETTO:-0500
TZNAME:EST
DTSTART:20261101T060000
END:STANDARD
END:VTIMEZONE
BEGIN:VEVENT
DTSTART;TZID=America/New_York:20251107T183000
DTEND;TZID=America/New_York:20251107T192000
DTSTAMP:20260421T204523
CREATED:20251031T212505Z
LAST-MODIFIED:20251031T212540Z
UID:10000268-1762540200-1762543200@www.humanisticjews.org
SUMMARY:Shabbat Candle Lighting
DESCRIPTION:Zoom opens at 6:30pm just to kibbutz. \nAt 7pm we light candles with a  short service. We listen to music and short lectures. Watch for the Zoom link on the listserv Friday afternoon.
URL:https://www.humanisticjews.org/event/shabbat-candle-lighting-51/
ATTACH;FMTTYPE=image/jpeg:https://www.humanisticjews.org/wp-content/uploads/2024/08/shabbat2-1.jpeg
END:VEVENT
BEGIN:VEVENT
DTSTART;TZID=America/New_York:20251108T103000
DTEND;TZID=America/New_York:20251108T103000
DTSTAMP:20260421T204523
CREATED:20251031T213849Z
LAST-MODIFIED:20251031T213917Z
UID:10000272-1762597800-1762597800@www.humanisticjews.org
SUMMARY:Book Club - The Woman They Could Not Silence - by Kate Moore
DESCRIPTION:1860: As the clash between the states rolls slowly to a boil\, Elizabeth Packard\, housewife and mother of six\, is facing her own battle. The enemy sits across the table and sleeps in the next room. Her husband of twenty-one years is plotting against her because he feels increasingly threatened – by Elizabeth’s intellect\, independence\, and unwillingness to stifle her own thoughts. So Theophilus makes a plan to put his wife back in her place. One summer morning\, he has her committed to an insane asylum. The horrific conditions inside the Illinois State Hospital in Jacksonville\, Illinois\, are overseen by Dr. Andrew McFarland\, a man who will prove to be even more dangerous to Elizabeth than her traitorous husband. But most disturbing is that Elizabeth is not the only sane woman confined to the institution. There are many rational women on her ward who tell the same story: they’ve been committed not because they need medical treatment\, but to keep them in line – conveniently labeled “crazy” so their voices are ignored. No one is willing to fight for their freedom and\, disenfranchised both by gender and the stigma of their supposed madness\, they cannot possibly fight for themselves. But Elizabeth is about to discover that the merit of losing everything is that you then have nothing to lose… \nLet rhonarobbin@yahoo.com know if you are planning to attend\, or if you want to be put onto the CHJ Book Club mailing list.
URL:https://www.humanisticjews.org/event/book-club-the-woman-they-could-not-silence-by-kate-moore/
LOCATION:Member’s residence
END:VEVENT
BEGIN:VEVENT
DTSTART;TZID=America/New_York:20251109T133000
DTEND;TZID=America/New_York:20251109T150000
DTSTAMP:20260421T204523
CREATED:20251021T175249Z
LAST-MODIFIED:20251021T175321Z
UID:10000267-1762695000-1762700400@www.humanisticjews.org
SUMMARY:Forum on Israel and Anti-Semitism
DESCRIPTION:These groups are organized by Loretta Jay\, Michelle Tomarkin and Jessica Wolf for CHJ members to have a safe place to talk about Israel\, anti-Semitism and other related topics and how we are affected. George Rockmore\nhas volunteered to serve as a back-up facilitator.\n\nSee listserv for venue.\n\n\n\n\nRSVP  forum@humanistcjews.org.
URL:https://www.humanisticjews.org/event/forum-on-israel-and-anti-semitism-12/
LOCATION:Member’s residence
ATTACH;FMTTYPE=image/png:https://www.humanisticjews.org/wp-content/uploads/2015/07/israel.png
END:VEVENT
BEGIN:VEVENT
DTSTART;TZID=America/New_York:20251111T190000
DTEND;TZID=America/New_York:20251111T190000
DTSTAMP:20260421T204523
CREATED:20251031T214318Z
LAST-MODIFIED:20251104T155855Z
UID:10000273-1762887600-1762887600@www.humanisticjews.org
SUMMARY:Board Meeting
DESCRIPTION:We will begin work on the year’s programs and any activities of specific interest. \nPlease send me subjects of interest you wish the Board to consider in order to prepare the agenda.  \nOpen to all CHJ members. Request the Zoom link from Previn Patel.\n\n  \n 
URL:https://www.humanisticjews.org/event/board-meeting-17/
LOCATION:Zoom
ATTACH;FMTTYPE=image/jpeg:https://www.humanisticjews.org/wp-content/uploads/2022/04/board-5.jpg
END:VEVENT
BEGIN:VEVENT
DTSTART;TZID=America/New_York:20251114T183000
DTEND;TZID=America/New_York:20251114T192000
DTSTAMP:20260421T204523
CREATED:20251031T212820Z
LAST-MODIFIED:20251031T212902Z
UID:10000269-1763145000-1763148000@www.humanisticjews.org
SUMMARY:Shabbat Candle Lighting
DESCRIPTION:Zoom opens at 6:30pm just to kibbutz. \nAt 7pm we light candles with a  short service. We listen to music and short lectures. Watch for the Zoom link on the listserv Friday afternoon.
URL:https://www.humanisticjews.org/event/shabbat-candle-lighting-52/
LOCATION:Zoom
ATTACH;FMTTYPE=image/jpeg:https://www.humanisticjews.org/wp-content/uploads/2024/08/shabbat2-1.jpeg
END:VEVENT
BEGIN:VEVENT
DTSTART;TZID=America/New_York:20251116T093000
DTEND;TZID=America/New_York:20251116T093000
DTSTAMP:20260421T204523
CREATED:20251014T015307Z
LAST-MODIFIED:20251014T020601Z
UID:10000265-1763285400-1763285400@www.humanisticjews.org
SUMMARY:Men's Rap
DESCRIPTION:9:30 kibbutzing \n10 Meeting \nRSVP lbwtz35@gmail.com \nWatch the listserv for the venue.
URL:https://www.humanisticjews.org/event/mens-rap-9/
LOCATION:Member’s residence
ATTACH;FMTTYPE=image/jpeg:https://www.humanisticjews.org/wp-content/uploads/2024/08/men-1.jpg
END:VEVENT
BEGIN:VEVENT
DTSTART;TZID=America/New_York:20251121T183000
DTEND;TZID=America/New_York:20251121T192000
DTSTAMP:20260421T204523
CREATED:20251031T213049Z
LAST-MODIFIED:20251031T213049Z
UID:10000270-1763749800-1763752800@www.humanisticjews.org
SUMMARY:Shabbat Candle Lighting
DESCRIPTION:Zoom opens at 6:30pm just to kibbutz. \nAt 7pm we light candles with a  short service. We listen to music and short lectures. Watch for the Zoom link on the listserv Friday afternoon.
URL:https://www.humanisticjews.org/event/shabbat-candle-lighting-53/
LOCATION:Zoom
ATTACH;FMTTYPE=image/jpeg:https://www.humanisticjews.org/wp-content/uploads/2024/08/shabbat2-1.jpeg
END:VEVENT
BEGIN:VEVENT
DTSTART;TZID=America/New_York:20251121T193000
DTEND;TZID=America/New_York:20251121T193000
DTSTAMP:20260421T204523
CREATED:20251112T005209Z
LAST-MODIFIED:20251112T005250Z
UID:10000275-1763753400-1763753400@www.humanisticjews.org
SUMMARY:Shabbat Program - SAVE THE DATE
DESCRIPTION:PROGRAM TBA \nWatch the listserv for the Zoom link.
URL:https://www.humanisticjews.org/event/shabbat-program-save-the-date/
LOCATION:Zoom
ATTACH;FMTTYPE=image/jpeg:https://www.humanisticjews.org/wp-content/uploads/2024/08/shabbat2-1.jpeg
END:VEVENT
BEGIN:VEVENT
DTSTART;TZID=America/New_York:20251123T120000
DTEND;TZID=America/New_York:20251123T140000
DTSTAMP:20260421T204523
CREATED:20251031T215003Z
LAST-MODIFIED:20251031T215139Z
UID:10000274-1763899200-1763906400@www.humanisticjews.org
SUMMARY:New Members' Brunch
DESCRIPTION:CHJ Pot Luck Brunch to welcome New Members \n                                                                 \nAttendance is limited to 35\, so please respond to debbietechct@gmail.com to secure your spot
URL:https://www.humanisticjews.org/event/new-members-brunch/
LOCATION:Member’s residence
END:VEVENT
BEGIN:VEVENT
DTSTART;TZID=America/New_York:20251128T183000
DTEND;TZID=America/New_York:20251128T192000
DTSTAMP:20260421T204523
CREATED:20251031T213225Z
LAST-MODIFIED:20251031T213225Z
UID:10000271-1764354600-1764357600@www.humanisticjews.org
SUMMARY:Shabbat Candle Lighting
DESCRIPTION:Zoom opens at 6:30pm just to kibbutz. \nAt 7pm we light candles with a  short service. We listen to music and short lectures. Watch for the Zoom link on the listserv Friday afternoon.
URL:https://www.humanisticjews.org/event/shabbat-candle-lighting-54/
LOCATION:Zoom
ATTACH;FMTTYPE=image/jpeg:https://www.humanisticjews.org/wp-content/uploads/2024/08/shabbat2-1.jpeg
END:VEVENT
END:VCALENDAR