BEGIN:VCALENDAR
VERSION:2.0
PRODID:-//Congregation for Humanistic Judaism - ECPv6.15.20//NONSGML v1.0//EN
CALSCALE:GREGORIAN
METHOD:PUBLISH
X-ORIGINAL-URL:https://www.humanisticjews.org
X-WR-CALDESC:Events for Congregation for Humanistic Judaism
REFRESH-INTERVAL;VALUE=DURATION:PT1H
X-Robots-Tag:noindex
X-PUBLISHED-TTL:PT1H
BEGIN:VTIMEZONE
TZID:America/New_York
BEGIN:DAYLIGHT
TZOFFSETFROM:-0500
TZOFFSETTO:-0400
TZNAME:EDT
DTSTART:20240310T070000
END:DAYLIGHT
BEGIN:STANDARD
TZOFFSETFROM:-0400
TZOFFSETTO:-0500
TZNAME:EST
DTSTART:20241103T060000
END:STANDARD
BEGIN:DAYLIGHT
TZOFFSETFROM:-0500
TZOFFSETTO:-0400
TZNAME:EDT
DTSTART:20250309T070000
END:DAYLIGHT
BEGIN:STANDARD
TZOFFSETFROM:-0400
TZOFFSETTO:-0500
TZNAME:EST
DTSTART:20251102T060000
END:STANDARD
BEGIN:DAYLIGHT
TZOFFSETFROM:-0500
TZOFFSETTO:-0400
TZNAME:EDT
DTSTART:20260308T070000
END:DAYLIGHT
BEGIN:STANDARD
TZOFFSETFROM:-0400
TZOFFSETTO:-0500
TZNAME:EST
DTSTART:20261101T060000
END:STANDARD
END:VTIMEZONE
BEGIN:VEVENT
DTSTART;TZID=America/New_York:20251001T193000
DTEND;TZID=America/New_York:20251001T193000
DTSTAMP:20260421T190539
CREATED:20250730T003730Z
LAST-MODIFIED:20250730T011647Z
UID:10000240-1759347000-1759347000@www.humanisticjews.org
SUMMARY:Yom Kippur Service - Kol Nidre
DESCRIPTION:We are pleased to present our 2025  Yom Kippur service in person to our\nmembers\, their families and guests. We will also be live-streaming the service to members and\nnon-members who wish to join us virtually. As always\, our services are free of charge.\nCHJ celebrate Yom Kippur with contemplative services incorporating\nmusic\, readings\, and rituals that strike a balance between our connections to the broad stream\nof Judaism and our secular humanistic view of Jewish culture and customs. Our services invite\nus to reflect on our values and commitments\, both as individuals and as a community \nMembers will receive links to the live-stream service through the Listserv.  Non-members who wish to view our services virtually are asked to please register in advance by clicking here and going to the bottom of the webpage.To follow along with the services\, download our printed booklet   here. \nDoors open 30 minutes before services begin. The live-stream services will commence at the times listed above. \nGuests interested in learning about CHJ membership or wishing to join CHJ\, please click here. Address inquiries to membership@humanisticjews.org \n 
URL:https://www.humanisticjews.org/event/yom-kippur-service-kol-nidre/
ATTACH;FMTTYPE=image/jpeg:https://www.humanisticjews.org/wp-content/uploads/2025/07/yom.jpeg
END:VEVENT
BEGIN:VEVENT
DTSTART;TZID=America/New_York:20251002T130000
DTEND;TZID=America/New_York:20251002T130000
DTSTAMP:20260421T190539
CREATED:20250730T004521Z
LAST-MODIFIED:20251014T021441Z
UID:10000241-1759410000-1759410000@www.humanisticjews.org
SUMMARY:Yom Kippur Day
DESCRIPTION:Members’ Workshop via Zoom. Topic TBD  @ 1:00pm \nMeditation via Zoom @ 2:30pm \nMemorial/ Closing Service @ 5:00p \nMembers will receive links to the live-stream service through the Listserv.  Non-members who wish to view our services virtually are asked to please register in advance by clicking here and going to the bottom of the webpage.To follow along with the services\, download our printed booklet   here. \nDoors open 30 minutes before services begin. The live-stream services will commence at the times listed above. \nGuests interested in learning about CHJ membership or wishing to join CHJ\, please click here. Address inquiries to membership@humanisticjews.org \n 
URL:https://www.humanisticjews.org/event/yom-kippur-day/
ATTACH;FMTTYPE=image/jpeg:https://www.humanisticjews.org/wp-content/uploads/2025/07/yom.jpeg
END:VEVENT
BEGIN:VEVENT
DTSTART;TZID=America/New_York:20251017T183000
DTEND;TZID=America/New_York:20251017T192000
DTSTAMP:20260421T190539
CREATED:20251014T013549Z
LAST-MODIFIED:20251014T013549Z
UID:10000264-1760725800-1760728800@www.humanisticjews.org
SUMMARY:Shabbat Candle Lighting
DESCRIPTION:Zoom opens at 6:30pm just to kibbutz. \nAt 7pm we light candles with a  short service. We listen to music and short lectures. Watch for the Zoom link on the listserv Friday afternoon.
URL:https://www.humanisticjews.org/event/shabbat-candle-lighting-50/
ATTACH;FMTTYPE=image/jpeg:https://www.humanisticjews.org/wp-content/uploads/2024/08/shabbat2-1.jpeg
END:VEVENT
BEGIN:VEVENT
DTSTART;TZID=America/New_York:20251024T193000
DTEND;TZID=America/New_York:20251024T193000
DTSTAMP:20260421T190539
CREATED:20251007T224044Z
LAST-MODIFIED:20251007T224112Z
UID:10000261-1761334200-1761334200@www.humanisticjews.org
SUMMARY:Shabbat Program - Jewish Pirates of the Caribbean
DESCRIPTION:We will be presenting the little known\, yet fascinating topic of Jewish Pirates of the Caribbean. \nManny Ratafia will introduce the presentation\, and then we will show two short videos\, followed by time for questions after each video. This program was inspired by a book about Jewish pirates (recommended by Manny) that our CHJ book group read recently\, titled Jewish Pirates of the Caribbean by Edward Kritzler. \nA Zoom link will be sent out to the listserv at a later date. \nHope to see you then. \nRhona Robbin & Sheila Felsen \nProgramming Committee Members
URL:https://www.humanisticjews.org/event/shabbat-program-jewish-pirates-of-the-caribbean/
LOCATION:Zoom
ATTACH;FMTTYPE=image/jpeg:https://www.humanisticjews.org/wp-content/uploads/2025/10/pirates.jpg
END:VEVENT
END:VCALENDAR