BEGIN:VCALENDAR
VERSION:2.0
PRODID:-//Congregation for Humanistic Judaism - ECPv6.15.20//NONSGML v1.0//EN
CALSCALE:GREGORIAN
METHOD:PUBLISH
X-WR-CALNAME:Congregation for Humanistic Judaism
X-ORIGINAL-URL:https://www.humanisticjews.org
X-WR-CALDESC:Events for Congregation for Humanistic Judaism
REFRESH-INTERVAL;VALUE=DURATION:PT1H
X-Robots-Tag:noindex
X-PUBLISHED-TTL:PT1H
BEGIN:VTIMEZONE
TZID:America/New_York
BEGIN:DAYLIGHT
TZOFFSETFROM:-0500
TZOFFSETTO:-0400
TZNAME:EDT
DTSTART:20240310T070000
END:DAYLIGHT
BEGIN:STANDARD
TZOFFSETFROM:-0400
TZOFFSETTO:-0500
TZNAME:EST
DTSTART:20241103T060000
END:STANDARD
BEGIN:DAYLIGHT
TZOFFSETFROM:-0500
TZOFFSETTO:-0400
TZNAME:EDT
DTSTART:20250309T070000
END:DAYLIGHT
BEGIN:STANDARD
TZOFFSETFROM:-0400
TZOFFSETTO:-0500
TZNAME:EST
DTSTART:20251102T060000
END:STANDARD
BEGIN:DAYLIGHT
TZOFFSETFROM:-0500
TZOFFSETTO:-0400
TZNAME:EDT
DTSTART:20260308T070000
END:DAYLIGHT
BEGIN:STANDARD
TZOFFSETFROM:-0400
TZOFFSETTO:-0500
TZNAME:EST
DTSTART:20261101T060000
END:STANDARD
END:VTIMEZONE
BEGIN:VEVENT
DTSTART;TZID=America/New_York:20250905T183000
DTEND;TZID=America/New_York:20250905T192000
DTSTAMP:20260421T174624
CREATED:20250831T155313Z
LAST-MODIFIED:20250831T155313Z
UID:10000253-1757097000-1757100000@www.humanisticjews.org
SUMMARY:Shabbat Candle Lighting
DESCRIPTION:Zoom opens at 6:30pm just to kibbutz. \nAt 7pm we light candles with a  short service. We listen to music and short lectures. Watch for the Zoom link on the listserv Friday afternoon.
URL:https://www.humanisticjews.org/event/shabbat-candle-lighting-46/
ATTACH;FMTTYPE=image/jpeg:https://www.humanisticjews.org/wp-content/uploads/2024/08/shabbat2-1.jpeg
END:VEVENT
BEGIN:VEVENT
DTSTART;TZID=America/New_York:20250906T103000
DTEND;TZID=America/New_York:20250906T123000
DTSTAMP:20260421T174624
CREATED:20250721T214206Z
LAST-MODIFIED:20250828T195144Z
UID:10000237-1757154600-1757161800@www.humanisticjews.org
SUMMARY:Women's Rap***New Date*** Sept. 6
DESCRIPTION:  \nCome join other CHJ women to talk about a topic to be chosen at the meeting. It’s a great way to get to know one another. \nRSVP: rcfnpl2@gmail.com \n  \n 
URL:https://www.humanisticjews.org/event/womens-rap-6/
LOCATION:Member’s residence
ATTACH;FMTTYPE=image/png:https://www.humanisticjews.org/wp-content/uploads/2018/05/rap.png
END:VEVENT
BEGIN:VEVENT
DTSTART;TZID=America/New_York:20250907T133000
DTEND;TZID=America/New_York:20250907T150000
DTSTAMP:20260421T174624
CREATED:20250812T174458Z
LAST-MODIFIED:20250812T174526Z
UID:10000250-1757251800-1757257200@www.humanisticjews.org
SUMMARY:Forum on Israel and Anti-Semitism
DESCRIPTION:These groups are organized by Loretta Jay\, Michelle Tomarkin and Jessica Wolf for CHJ members to have a safe place to talk about Israel\, anti-Semitism and other related topics and how we are affected. George Rockmore\nhas volunteered to serve as a back-up facilitator.\n\nSee listserv for venue.\n\n\n\n\nRSVP  forum@humanistcjews.org.
URL:https://www.humanisticjews.org/event/forum-on-israel-and-anti-semitism-11/
LOCATION:Member’s residence
ATTACH;FMTTYPE=image/png:https://www.humanisticjews.org/wp-content/uploads/2015/07/israel.png
END:VEVENT
BEGIN:VEVENT
DTSTART;TZID=America/New_York:20250909T190000
DTEND;TZID=America/New_York:20250909T190000
DTSTAMP:20260421T174624
CREATED:20250826T175622Z
LAST-MODIFIED:20250826T175622Z
UID:10000252-1757444400-1757444400@www.humanisticjews.org
SUMMARY:Board Meeting
DESCRIPTION:We will begin work on the year’s programs and any activities of specific interest. \nPlease send me subjects of interest you wish the Board to consider in order to prepare the agenda.  \nOpen to all CHJ members. Request the Zoom link from Previn Patel.\n\n  \n 
URL:https://www.humanisticjews.org/event/board-meeting-16/
LOCATION:Zoom
ATTACH;FMTTYPE=image/jpeg:https://www.humanisticjews.org/wp-content/uploads/2022/04/board-5.jpg
END:VEVENT
BEGIN:VEVENT
DTSTART;TZID=America/New_York:20250912T183000
DTEND;TZID=America/New_York:20250912T192000
DTSTAMP:20260421T174624
CREATED:20250831T155612Z
LAST-MODIFIED:20250831T155730Z
UID:10000254-1757701800-1757704800@www.humanisticjews.org
SUMMARY:Shabbat Candle Lighting
DESCRIPTION:Zoom opens at 6:30pm just to kibbutz. \nAt 7pm we light candles with a  short service. We listen to music and short lectures. Watch for the Zoom link on the listserv Friday afternoon.
URL:https://www.humanisticjews.org/event/shabbat-candle-lighting-47/
ATTACH;FMTTYPE=image/jpeg:https://www.humanisticjews.org/wp-content/uploads/2024/08/shabbat2-1.jpeg
END:VEVENT
BEGIN:VEVENT
DTSTART;TZID=America/New_York:20250913T103000
DTEND;TZID=America/New_York:20250913T103000
DTSTAMP:20260421T174624
CREATED:20250831T161732Z
LAST-MODIFIED:20250831T161746Z
UID:10000258-1757759400-1757759400@www.humanisticjews.org
SUMMARY:Book Club - Jewish Pirates of the Caribbean by Edward Kritzler
DESCRIPTION:Member’s residence in Trumbull\n\nAt the end of the fifteenth century\, the Spanish Inquisition forced many Jews to flee the country. The most adventurous among them took to the high seas as freewheeling outlaws. In ships bearing names such as the Prophet Samuel\, Queen Esther\, and Shield of Abraham\, they attacked and plundered the Spanish fleet while forming alliances with other European powers to ensure the safety of Jews living in hiding. \nJEWISH PIRATES OF THE CARIBBEAN is the entertaining saga of a hidden chapter in Jewish history and of the cruelty\, terror\, and greed that flourished during the Age of Discovery. Readers will meet such daring figures as “the Great Jewish Pirate” Sinan\, Barbarossa’s second-in-command; the pirate rabbi Samuel Palache\, who founded Holland’s Jewish community; Abraham Cohen Henriques\, an arms dealer who used his cunning and economic muscle to find safe havens for other Jews; and his pirate brother Moses\, who is credited with the capture of the Spanish silver fleet in 1628–the largest heist in pirate history. Filled with high-sea adventures—including encounters with Captain Morgan and other legendary pirates—and detailed portraits of cities stacked high with plunder\, such as Port Royal\, Jamaica\, JEWISH PIRATES OF THE CARIBBEAN captures a gritty and glorious era of history from an unusual and eye-opening perspective.
URL:https://www.humanisticjews.org/event/book-club-jewish-pirates-of-the-caribbean-by-edward-kritzler/
LOCATION:Member’s residence
END:VEVENT
BEGIN:VEVENT
DTSTART;TZID=America/New_York:20250913T180000
DTEND;TZID=America/New_York:20250913T180000
DTSTAMP:20260421T174624
CREATED:20250831T160656Z
LAST-MODIFIED:20250913T211341Z
UID:10000257-1757786400-1757786400@www.humanisticjews.org
SUMMARY:Havdalah at the Beach  ****NEW VENUE****
DESCRIPTION:Bid Shabbat farewell at the beach with fellow members\, friends and guests on Saturday Sept.13\, 5:00 p m. at the Sherwood Island State Park. Parking is free for CT residents as long as you car has CT license plate \nWe will meet at the Pavillion.\nWe ask those coming from out of state to contact local residents to arrange car pooling to avoid the parking fee.\nDesserts\, drinks and parking compliments of CHJ; bring your chairs and dinner. \nPlease RSVP programming@humanisticjews.org  in order to plan for desserts and drinks. \n 
URL:https://www.humanisticjews.org/event/havdalah-at-the-beach-new-venue/
LOCATION:Sherwood Island State Park\,Westport
ATTACH;FMTTYPE=image/jpeg:https://www.humanisticjews.org/wp-content/uploads/2023/07/havdalah-at-beach-2023-scaled-e1688312436141.jpg
END:VEVENT
BEGIN:VEVENT
DTSTART;TZID=America/New_York:20250919T183000
DTEND;TZID=America/New_York:20250919T192000
DTSTAMP:20260421T174624
CREATED:20250831T155925Z
LAST-MODIFIED:20250831T155925Z
UID:10000255-1758306600-1758309600@www.humanisticjews.org
SUMMARY:Shabbat Candle Lighting
DESCRIPTION:Zoom opens at 6:30pm just to kibbutz. \nAt 7pm we light candles with a  short service. We listen to music and short lectures. Watch for the Zoom link on the listserv Friday afternoon.
URL:https://www.humanisticjews.org/event/shabbat-candle-lighting-48/
ATTACH;FMTTYPE=image/jpeg:https://www.humanisticjews.org/wp-content/uploads/2024/08/shabbat2-1.jpeg
END:VEVENT
BEGIN:VEVENT
DTSTART;TZID=America/New_York:20250922T193000
DTEND;TZID=America/New_York:20250922T193000
DTSTAMP:20260421T174624
CREATED:20250729T235424Z
LAST-MODIFIED:20250730T011220Z
UID:10000238-1758569400-1758569400@www.humanisticjews.org
SUMMARY:Rosh Hashanah Eve - Rosh Hashanah Service
DESCRIPTION:We are pleased to present our 2025 Rosh Hashanah services in person to our\nmembers\, their families and guests. We will also be live-streaming the services to members and\nnon-members who wish to join us virtually. As always\, our services are free of charge.\nCHJ celebrates Rosh Hashanah  with contemplative services incorporating\nmusic\, readings\, and rituals that strike a balance between our connections to the broad stream\nof Judaism and our secular humanistic view of Jewish culture and customs. Our services invite\nus to reflect on our values and commitments\, both as individuals and as a community. \nMembers will receive links to the live-stream service through the Listserv.  Non-members who wish to view our services virtually are asked to please register in advance by clicking here and going to the bottom of the webpage.To follow along with the services\, download our printed booklet   here. \nDoors open 30 minutes before services begin. The live-stream services will commence at the times listed above. \nGuests interested in learning about CHJ membership or wishing to join CHJ\, please click here. Address inquiries to membership@humanisticjews.org \n 
URL:https://www.humanisticjews.org/event/rosh-hashanah-eve-rosh-hashanah-service/
ATTACH;FMTTYPE=image/jpeg:https://www.humanisticjews.org/wp-content/uploads/2025/07/rh.jpeg
END:VEVENT
BEGIN:VEVENT
DTSTART;TZID=America/New_York:20250923T133000
DTEND;TZID=America/New_York:20250923T133000
DTSTAMP:20260421T174624
CREATED:20250729T235958Z
LAST-MODIFIED:20250730T000251Z
UID:10000239-1758634200-1758634200@www.humanisticjews.org
SUMMARY:Rosh Hashanah Day - Taschlich Ceremony
DESCRIPTION:We invite our members to join us on the first day of Rosh Hashanah\nfor a Taschlich ceremony\, in which we symbolically cast off our bad actions and thoughts.
URL:https://www.humanisticjews.org/event/rosh-hashanah-day-taschlich-ceremony/
ATTACH;FMTTYPE=image/jpeg:https://www.humanisticjews.org/wp-content/uploads/2025/07/taschlich.jpeg
END:VEVENT
BEGIN:VEVENT
DTSTART;TZID=America/New_York:20250926T183000
DTEND;TZID=America/New_York:20250926T192000
DTSTAMP:20260421T174624
CREATED:20250831T160112Z
LAST-MODIFIED:20250831T160137Z
UID:10000256-1758911400-1758914400@www.humanisticjews.org
SUMMARY:Shabbat Candle Lighting
DESCRIPTION:Zoom opens at 6:30pm just to kibbutz. \nAt 7pm we light candles with a  short service. We listen to music and short lectures. Watch for the Zoom link on the listserv Friday afternoon.
URL:https://www.humanisticjews.org/event/shabbat-candle-lighting-49/
LOCATION:Zoom
ATTACH;FMTTYPE=image/jpeg:https://www.humanisticjews.org/wp-content/uploads/2024/08/shabbat2-1.jpeg
END:VEVENT
END:VCALENDAR