BEGIN:VCALENDAR
VERSION:2.0
PRODID:-//Congregation for Humanistic Judaism - ECPv6.15.20//NONSGML v1.0//EN
CALSCALE:GREGORIAN
METHOD:PUBLISH
X-ORIGINAL-URL:https://www.humanisticjews.org
X-WR-CALDESC:Events for Congregation for Humanistic Judaism
REFRESH-INTERVAL;VALUE=DURATION:PT1H
X-Robots-Tag:noindex
X-PUBLISHED-TTL:PT1H
BEGIN:VTIMEZONE
TZID:America/New_York
BEGIN:DAYLIGHT
TZOFFSETFROM:-0500
TZOFFSETTO:-0400
TZNAME:EDT
DTSTART:20240310T070000
END:DAYLIGHT
BEGIN:STANDARD
TZOFFSETFROM:-0400
TZOFFSETTO:-0500
TZNAME:EST
DTSTART:20241103T060000
END:STANDARD
BEGIN:DAYLIGHT
TZOFFSETFROM:-0500
TZOFFSETTO:-0400
TZNAME:EDT
DTSTART:20250309T070000
END:DAYLIGHT
BEGIN:STANDARD
TZOFFSETFROM:-0400
TZOFFSETTO:-0500
TZNAME:EST
DTSTART:20251102T060000
END:STANDARD
BEGIN:DAYLIGHT
TZOFFSETFROM:-0500
TZOFFSETTO:-0400
TZNAME:EDT
DTSTART:20260308T070000
END:DAYLIGHT
BEGIN:STANDARD
TZOFFSETFROM:-0400
TZOFFSETTO:-0500
TZNAME:EST
DTSTART:20261101T060000
END:STANDARD
END:VTIMEZONE
BEGIN:VEVENT
DTSTART;TZID=America/New_York:20250922T193000
DTEND;TZID=America/New_York:20250922T193000
DTSTAMP:20260421T191139
CREATED:20250729T235424Z
LAST-MODIFIED:20250730T011220Z
UID:10000238-1758569400-1758569400@www.humanisticjews.org
SUMMARY:Rosh Hashanah Eve - Rosh Hashanah Service
DESCRIPTION:We are pleased to present our 2025 Rosh Hashanah services in person to our\nmembers\, their families and guests. We will also be live-streaming the services to members and\nnon-members who wish to join us virtually. As always\, our services are free of charge.\nCHJ celebrates Rosh Hashanah  with contemplative services incorporating\nmusic\, readings\, and rituals that strike a balance between our connections to the broad stream\nof Judaism and our secular humanistic view of Jewish culture and customs. Our services invite\nus to reflect on our values and commitments\, both as individuals and as a community. \nMembers will receive links to the live-stream service through the Listserv.  Non-members who wish to view our services virtually are asked to please register in advance by clicking here and going to the bottom of the webpage.To follow along with the services\, download our printed booklet   here. \nDoors open 30 minutes before services begin. The live-stream services will commence at the times listed above. \nGuests interested in learning about CHJ membership or wishing to join CHJ\, please click here. Address inquiries to membership@humanisticjews.org \n 
URL:https://www.humanisticjews.org/event/rosh-hashanah-eve-rosh-hashanah-service/
ATTACH;FMTTYPE=image/jpeg:https://www.humanisticjews.org/wp-content/uploads/2025/07/rh.jpeg
END:VEVENT
END:VCALENDAR