BEGIN:VCALENDAR
VERSION:2.0
PRODID:-//Congregation for Humanistic Judaism - ECPv6.15.20//NONSGML v1.0//EN
CALSCALE:GREGORIAN
METHOD:PUBLISH
X-WR-CALNAME:Congregation for Humanistic Judaism
X-ORIGINAL-URL:https://www.humanisticjews.org
X-WR-CALDESC:Events for Congregation for Humanistic Judaism
REFRESH-INTERVAL;VALUE=DURATION:PT1H
X-Robots-Tag:noindex
X-PUBLISHED-TTL:PT1H
BEGIN:VTIMEZONE
TZID:America/New_York
BEGIN:DAYLIGHT
TZOFFSETFROM:-0500
TZOFFSETTO:-0400
TZNAME:EDT
DTSTART:20240310T070000
END:DAYLIGHT
BEGIN:STANDARD
TZOFFSETFROM:-0400
TZOFFSETTO:-0500
TZNAME:EST
DTSTART:20241103T060000
END:STANDARD
BEGIN:DAYLIGHT
TZOFFSETFROM:-0500
TZOFFSETTO:-0400
TZNAME:EDT
DTSTART:20250309T070000
END:DAYLIGHT
BEGIN:STANDARD
TZOFFSETFROM:-0400
TZOFFSETTO:-0500
TZNAME:EST
DTSTART:20251102T060000
END:STANDARD
BEGIN:DAYLIGHT
TZOFFSETFROM:-0500
TZOFFSETTO:-0400
TZNAME:EDT
DTSTART:20260308T070000
END:DAYLIGHT
BEGIN:STANDARD
TZOFFSETFROM:-0400
TZOFFSETTO:-0500
TZNAME:EST
DTSTART:20261101T060000
END:STANDARD
END:VTIMEZONE
BEGIN:VEVENT
DTSTART;TZID=America/New_York:20250913T103000
DTEND;TZID=America/New_York:20250913T103000
DTSTAMP:20260421T191047
CREATED:20250831T161732Z
LAST-MODIFIED:20250831T161746Z
UID:10000258-1757759400-1757759400@www.humanisticjews.org
SUMMARY:Book Club - Jewish Pirates of the Caribbean by Edward Kritzler
DESCRIPTION:Member’s residence in Trumbull\n\nAt the end of the fifteenth century\, the Spanish Inquisition forced many Jews to flee the country. The most adventurous among them took to the high seas as freewheeling outlaws. In ships bearing names such as the Prophet Samuel\, Queen Esther\, and Shield of Abraham\, they attacked and plundered the Spanish fleet while forming alliances with other European powers to ensure the safety of Jews living in hiding. \nJEWISH PIRATES OF THE CARIBBEAN is the entertaining saga of a hidden chapter in Jewish history and of the cruelty\, terror\, and greed that flourished during the Age of Discovery. Readers will meet such daring figures as “the Great Jewish Pirate” Sinan\, Barbarossa’s second-in-command; the pirate rabbi Samuel Palache\, who founded Holland’s Jewish community; Abraham Cohen Henriques\, an arms dealer who used his cunning and economic muscle to find safe havens for other Jews; and his pirate brother Moses\, who is credited with the capture of the Spanish silver fleet in 1628–the largest heist in pirate history. Filled with high-sea adventures—including encounters with Captain Morgan and other legendary pirates—and detailed portraits of cities stacked high with plunder\, such as Port Royal\, Jamaica\, JEWISH PIRATES OF THE CARIBBEAN captures a gritty and glorious era of history from an unusual and eye-opening perspective.
URL:https://www.humanisticjews.org/event/book-club-jewish-pirates-of-the-caribbean-by-edward-kritzler/
LOCATION:Member’s residence
END:VEVENT
BEGIN:VEVENT
DTSTART;TZID=America/New_York:20250913T180000
DTEND;TZID=America/New_York:20250913T180000
DTSTAMP:20260421T191047
CREATED:20250831T160656Z
LAST-MODIFIED:20250913T211341Z
UID:10000257-1757786400-1757786400@www.humanisticjews.org
SUMMARY:Havdalah at the Beach  ****NEW VENUE****
DESCRIPTION:Bid Shabbat farewell at the beach with fellow members\, friends and guests on Saturday Sept.13\, 5:00 p m. at the Sherwood Island State Park. Parking is free for CT residents as long as you car has CT license plate \nWe will meet at the Pavillion.\nWe ask those coming from out of state to contact local residents to arrange car pooling to avoid the parking fee.\nDesserts\, drinks and parking compliments of CHJ; bring your chairs and dinner. \nPlease RSVP programming@humanisticjews.org  in order to plan for desserts and drinks. \n 
URL:https://www.humanisticjews.org/event/havdalah-at-the-beach-new-venue/
LOCATION:Sherwood Island State Park\,Westport
ATTACH;FMTTYPE=image/jpeg:https://www.humanisticjews.org/wp-content/uploads/2023/07/havdalah-at-beach-2023-scaled-e1688312436141.jpg
END:VEVENT
END:VCALENDAR