BEGIN:VCALENDAR
VERSION:2.0
PRODID:-//Congregation for Humanistic Judaism - ECPv6.15.20//NONSGML v1.0//EN
CALSCALE:GREGORIAN
METHOD:PUBLISH
X-WR-CALNAME:Congregation for Humanistic Judaism
X-ORIGINAL-URL:https://www.humanisticjews.org
X-WR-CALDESC:Events for Congregation for Humanistic Judaism
REFRESH-INTERVAL;VALUE=DURATION:PT1H
X-Robots-Tag:noindex
X-PUBLISHED-TTL:PT1H
BEGIN:VTIMEZONE
TZID:America/New_York
BEGIN:DAYLIGHT
TZOFFSETFROM:-0500
TZOFFSETTO:-0400
TZNAME:EDT
DTSTART:20240310T070000
END:DAYLIGHT
BEGIN:STANDARD
TZOFFSETFROM:-0400
TZOFFSETTO:-0500
TZNAME:EST
DTSTART:20241103T060000
END:STANDARD
BEGIN:DAYLIGHT
TZOFFSETFROM:-0500
TZOFFSETTO:-0400
TZNAME:EDT
DTSTART:20250309T070000
END:DAYLIGHT
BEGIN:STANDARD
TZOFFSETFROM:-0400
TZOFFSETTO:-0500
TZNAME:EST
DTSTART:20251102T060000
END:STANDARD
BEGIN:DAYLIGHT
TZOFFSETFROM:-0500
TZOFFSETTO:-0400
TZNAME:EDT
DTSTART:20260308T070000
END:DAYLIGHT
BEGIN:STANDARD
TZOFFSETFROM:-0400
TZOFFSETTO:-0500
TZNAME:EST
DTSTART:20261101T060000
END:STANDARD
END:VTIMEZONE
BEGIN:VEVENT
DTSTART;TZID=America/New_York:20250824T093000
DTEND;TZID=America/New_York:20250824T093000
DTSTAMP:20260421T094323
CREATED:20250730T202347Z
LAST-MODIFIED:20250730T202411Z
UID:10000248-1756027800-1756027800@www.humanisticjews.org
SUMMARY:Men's Rap
DESCRIPTION:Come and join us for kibbitzing and noshing. \nNoshing starts at 9:30am. \nMeeting at 10am. \nRSVP – george.unser@gmail.com \nWatch the liserserv for venue. \n  \n 
URL:https://www.humanisticjews.org/event/mens-rap-7/
LOCATION:Member’s residence
ATTACH;FMTTYPE=image/png:https://www.humanisticjews.org/wp-content/uploads/2024/08/Men-chatting-photo-by-Flickr-Jly-2018.png
END:VEVENT
BEGIN:VEVENT
DTSTART;TZID=America/New_York:20250824T093000
DTEND;TZID=America/New_York:20250824T093000
DTSTAMP:20260421T094323
CREATED:20250825T154429Z
LAST-MODIFIED:20250825T154508Z
UID:10000251-1756027800-1756027800@www.humanisticjews.org
SUMMARY:Men's Rap
DESCRIPTION:Come and join us for kibbitzing and noshing. \nNoshing starts at 9:30am. \nMeeting at 10am. \nRSVP –manny67258@gmail.com \nWatch the liserserv for venue. \n  \n 
URL:https://www.humanisticjews.org/event/mens-rap-8/
LOCATION:Member’s residence
ATTACH;FMTTYPE=image/png:https://www.humanisticjews.org/wp-content/uploads/2024/08/Men-chatting-photo-by-Flickr-Jly-2018.png
END:VEVENT
END:VCALENDAR