BEGIN:VCALENDAR
VERSION:2.0
PRODID:-//Congregation for Humanistic Judaism - ECPv6.15.20//NONSGML v1.0//EN
CALSCALE:GREGORIAN
METHOD:PUBLISH
X-WR-CALNAME:Congregation for Humanistic Judaism
X-ORIGINAL-URL:https://www.humanisticjews.org
X-WR-CALDESC:Events for Congregation for Humanistic Judaism
REFRESH-INTERVAL;VALUE=DURATION:PT1H
X-Robots-Tag:noindex
X-PUBLISHED-TTL:PT1H
BEGIN:VTIMEZONE
TZID:America/New_York
BEGIN:DAYLIGHT
TZOFFSETFROM:-0500
TZOFFSETTO:-0400
TZNAME:EDT
DTSTART:20240310T070000
END:DAYLIGHT
BEGIN:STANDARD
TZOFFSETFROM:-0400
TZOFFSETTO:-0500
TZNAME:EST
DTSTART:20241103T060000
END:STANDARD
BEGIN:DAYLIGHT
TZOFFSETFROM:-0500
TZOFFSETTO:-0400
TZNAME:EDT
DTSTART:20250309T070000
END:DAYLIGHT
BEGIN:STANDARD
TZOFFSETFROM:-0400
TZOFFSETTO:-0500
TZNAME:EST
DTSTART:20251102T060000
END:STANDARD
BEGIN:DAYLIGHT
TZOFFSETFROM:-0500
TZOFFSETTO:-0400
TZNAME:EDT
DTSTART:20260308T070000
END:DAYLIGHT
BEGIN:STANDARD
TZOFFSETFROM:-0400
TZOFFSETTO:-0500
TZNAME:EST
DTSTART:20261101T060000
END:STANDARD
END:VTIMEZONE
BEGIN:VEVENT
DTSTART;TZID=America/New_York:20250809T103000
DTEND;TZID=America/New_York:20250809T103000
DTSTAMP:20260420T155558
CREATED:20250730T201628Z
LAST-MODIFIED:20250730T201822Z
UID:10000247-1754735400-1754735400@www.humanisticjews.org
SUMMARY:Book Club - My Year of Meats by Ruth Ozeki
DESCRIPTION:A cross-cultural tale of two women brought together by the intersections of television and industrial agriculture\, fertility and motherhood\, life and love. Ruth Ozeki’s mesmerizing debut novel has captivated readers and reviewers worldwide. When documentarian Jane Takagi-Little finally lands a job producing a Japanese television show that just happens to be sponsored by an American meat-exporting business\, she uncovers some unsavory truths about love\, fertility\, and a dangerous hormone called DES. Soon she will also cross paths with Akiko Ueno\, a beleaguered Japanese housewife struggling to escape her overbearing husband. Hailed by USA Today as “rare and provocative” and awarded the Kirayama Prize for Literature of the Pacific Rim\, My Year of Meats is a modern-day take on Upton Sinclair’s The Jungle for fans of Michael Pollan\, Margaret Atwood\, and Barbara Kingsolver.
URL:https://www.humanisticjews.org/event/book-club-my-year-of-meats-by-ruth-ozeki/
LOCATION:Member’s residence
ATTACH;FMTTYPE=image/jpeg:https://www.humanisticjews.org/wp-content/uploads/2025/07/meats.jpg
END:VEVENT
END:VCALENDAR