BEGIN:VCALENDAR
VERSION:2.0
PRODID:-//Congregation for Humanistic Judaism - ECPv6.15.20//NONSGML v1.0//EN
CALSCALE:GREGORIAN
METHOD:PUBLISH
X-ORIGINAL-URL:https://www.humanisticjews.org
X-WR-CALDESC:Events for Congregation for Humanistic Judaism
REFRESH-INTERVAL;VALUE=DURATION:PT1H
X-Robots-Tag:noindex
X-PUBLISHED-TTL:PT1H
BEGIN:VTIMEZONE
TZID:America/New_York
BEGIN:DAYLIGHT
TZOFFSETFROM:-0500
TZOFFSETTO:-0400
TZNAME:EDT
DTSTART:20240310T070000
END:DAYLIGHT
BEGIN:STANDARD
TZOFFSETFROM:-0400
TZOFFSETTO:-0500
TZNAME:EST
DTSTART:20241103T060000
END:STANDARD
BEGIN:DAYLIGHT
TZOFFSETFROM:-0500
TZOFFSETTO:-0400
TZNAME:EDT
DTSTART:20250309T070000
END:DAYLIGHT
BEGIN:STANDARD
TZOFFSETFROM:-0400
TZOFFSETTO:-0500
TZNAME:EST
DTSTART:20251102T060000
END:STANDARD
BEGIN:DAYLIGHT
TZOFFSETFROM:-0500
TZOFFSETTO:-0400
TZNAME:EDT
DTSTART:20260308T070000
END:DAYLIGHT
BEGIN:STANDARD
TZOFFSETFROM:-0400
TZOFFSETTO:-0500
TZNAME:EST
DTSTART:20261101T060000
END:STANDARD
END:VTIMEZONE
BEGIN:VEVENT
DTSTART;TZID=America/New_York:20250712T103000
DTEND;TZID=America/New_York:20250712T103000
DTSTAMP:20260420T102738
CREATED:20250625T162847Z
LAST-MODIFIED:20250625T162910Z
UID:10000229-1752316200-1752316200@www.humanisticjews.org
SUMMARY:Book Club - Table for Two by Amor Towles
DESCRIPTION:Join a discussion of  Table for Two by Amor Towles \nMillions of Amor Towles fans are in for a treat as he shares some of his shorter fiction: six stories based in New York City and a novella set in Golden Age Hollywood. \nThe New York stories\, most of which take place around the year 2000\, consider the fateful consequences that can spring from brief encounters and the delicate mechanics of compromise that operate at the heart of modern marriages. Told from seven points of view\, “Eve in Hollywood” describes how one of Towles’s most beloved characters\, the indomitable Evelyn Ross from Rules of Civility\, crafts a new future for herself—and others—in a noirish tale that takes us through the movie sets\, bungalows\, and dive bars of 1930s Los Angeles.
URL:https://www.humanisticjews.org/event/book-club-table-for-two-by-amor-towles-2/
LOCATION:Member’s residence
ATTACH;FMTTYPE=image/jpeg:https://www.humanisticjews.org/wp-content/uploads/2025/06/Table.jpg
END:VEVENT
END:VCALENDAR