BEGIN:VCALENDAR
VERSION:2.0
PRODID:-//Congregation for Humanistic Judaism - ECPv6.15.20//NONSGML v1.0//EN
CALSCALE:GREGORIAN
METHOD:PUBLISH
X-ORIGINAL-URL:https://www.humanisticjews.org
X-WR-CALDESC:Events for Congregation for Humanistic Judaism
REFRESH-INTERVAL;VALUE=DURATION:PT1H
X-Robots-Tag:noindex
X-PUBLISHED-TTL:PT1H
BEGIN:VTIMEZONE
TZID:America/New_York
BEGIN:DAYLIGHT
TZOFFSETFROM:-0500
TZOFFSETTO:-0400
TZNAME:EDT
DTSTART:20240310T070000
END:DAYLIGHT
BEGIN:STANDARD
TZOFFSETFROM:-0400
TZOFFSETTO:-0500
TZNAME:EST
DTSTART:20241103T060000
END:STANDARD
BEGIN:DAYLIGHT
TZOFFSETFROM:-0500
TZOFFSETTO:-0400
TZNAME:EDT
DTSTART:20250309T070000
END:DAYLIGHT
BEGIN:STANDARD
TZOFFSETFROM:-0400
TZOFFSETTO:-0500
TZNAME:EST
DTSTART:20251102T060000
END:STANDARD
BEGIN:DAYLIGHT
TZOFFSETFROM:-0500
TZOFFSETTO:-0400
TZNAME:EDT
DTSTART:20260308T070000
END:DAYLIGHT
BEGIN:STANDARD
TZOFFSETFROM:-0400
TZOFFSETTO:-0500
TZNAME:EST
DTSTART:20261101T060000
END:STANDARD
END:VTIMEZONE
BEGIN:VEVENT
DTSTART;TZID=America/New_York:20250616T080000
DTEND;TZID=America/New_York:20250616T170000
DTSTAMP:20260420T090746
CREATED:20250616T222704Z
LAST-MODIFIED:20250616T222740Z
UID:10000227-1750060800-1750093200@www.humanisticjews.org
SUMMARY:Book Club - Table for Two by Amor Towles
DESCRIPTION:Join us for a discussion of Table for Two by Amor Towles. \nThe author writes of this book: \nTable for Two includes six short stories and a novella which I wrote in the last ten years. The six stories\, all set in New York\, mostly take place around the turn of the Millennium. So\, unlike my novels\, they represent a time and place that I have witnessed firsthand\, albeit through the eyes of a fabulist. \n————– \nWhen I finished assembling the collection\, it occurred to me that in most of the pieces\, a critical moment involved a pair of family members or strangers facing each other across a kitchen table to confront some new reality in their lives. I wasn’t conscious of this while writing the stories\, but it must have sprung from a conviction in my subconscious that our lives can often change materially due to a single conversation at a table for two.
URL:https://www.humanisticjews.org/event/book-club-table-for-two-by-amor-towles/
ATTACH;FMTTYPE=image/jpeg:https://www.humanisticjews.org/wp-content/uploads/2025/06/Table-for-Two-UK-lr-678x1024-1.jpg
END:VEVENT
END:VCALENDAR